BEGIN:VCALENDAR
VERSION:2.0
PRODID:-//wp-events-plugin.com//7.2.3.1//EN
TZID:Europe/Stockholm
X-WR-TIMEZONE:Europe/Stockholm
BEGIN:VEVENT
UID:124@azsg.se
DTSTART;TZID=Europe/Stockholm:20201102T100000
DTEND;TZID=Europe/Stockholm:20201102T111500
DTSTAMP:20200915T170359Z
URL:https://azsg.se/aktiviteter/visning-av-frimurarehuset/
SUMMARY:INSTÄLLT!! Visning av Frimurarehuset
DESCRIPTION:[vc_row padding_top="0px" padding_bottom="0px"][vc_column fade_
 animation_offset="45px"][vc_column_text]Visningen av Frimurarhuset har skj
 utits på framtiden och ersatts av en guidad vandring med Pether på Nya V
 arvet. Se separat evenemang.\n\nEn ny guidning av Pether Ribbefors. Denna 
 gång får vi se Frimurarhuset från insidan\, ett av Göteborgs hemligast
 e kulturarv.\n\nAvslutas med fördel med en lunch på klassiska Golden Day
 s i samma hus.\n\nBakom en stram fasad på Södra Hamngatan döljer sig en
  värld av symboler. Sedan 1806 har Frimurareorden huserat på platsen\, b
 yggnaden kom till efter den stora stadsbranden 1802 och konstruerades reda
 n från början uteslutande för ordensändamål.[/vc_column_text][gap siz
 e="2em" id="" class="" style=""][vc_message message_box_style="solid" styl
 e="square" message_box_color="juicy_pink" icon_fontawesome="" el_class="si
 staanmalan"]Instäällt p.g.a. corona.[/vc_message][/vc_column][/vc_row]
ATTACH;FMTTYPE=image/jpeg:https://azsg.se/wp-content/uploads/2020/05/Frimu
 rarhuset-i-Göteborg.jpg
CATEGORIES:Kultur,Möte
END:VEVENT
BEGIN:VTIMEZONE
TZID:Europe/Stockholm
X-LIC-LOCATION:Europe/Stockholm
BEGIN:STANDARD
DTSTART:20201025T020000
TZOFFSETFROM:+0200
TZOFFSETTO:+0100
TZNAME:CET
END:STANDARD
END:VTIMEZONE
END:VCALENDAR