BEGIN:VCALENDAR
VERSION:2.0
PRODID:-//wp-events-plugin.com//7.2.3.1//EN
TZID:Europe/Stockholm
X-WR-TIMEZONE:Europe/Stockholm
BEGIN:VEVENT
UID:204@azsg.se
DTSTART;TZID=Europe/Stockholm:20240521T100000
DTEND;TZID=Europe/Stockholm:20240521T120000
DTSTAMP:20231218T230601Z
URL:https://azsg.se/aktiviteter/varpromenad-med-borje-wernersson/
SUMMARY:Försommarpromenad med Börje Wernersson
DESCRIPTION:[vc_row padding_top="0px" padding_bottom="0px"][vc_column fade_
 animation_offset="45px"][vc_column_text]Vi samlas kl 10.00 på stora parke
 ringen vid Särö Västerskog. Vi kollar in ramslök vid parkeringen innan
  vi går in i skogen och ser på landets sannolikt största förekomst av 
 idegran och den ovanliga lunglaven i lövskogen. Vi tar oss ut till havet 
 där vi njuter av medhavd fika i den härliga försommaren vid havet.\n\nV
 i går i lättgången terräng och stövlar behövs inte.\n\nVi ses i  sk
 öna maj!\n\nHälsar Börje[/vc_column_text][gap size="2em" id="" class=""
  style=""][vc_message message_box_style="solid" style="square" message_box
 _color="juicy_pink" icon_fontawesome="" el_class="sistaanmalan"]Anmälan s
 enast 14 maj – max 25 platser (först till kvarn …)[/vc_message][/vc_c
 olumn][/vc_row]
ATTACH;FMTTYPE=image/jpeg:https://azsg.se/wp-content/uploads/2023/12/Ramsl
 ok-Saro-Vasterskog-Liten.jpg
CATEGORIES:Kunskap,Promenad
LOCATION:Särö Västerskog\, GW3M+WFH Särö\, Särö\, 429 43\, Sverige
GEO:57.504813;11.933734
X-APPLE-STRUCTURED-LOCATION;VALUE=URI;X-ADDRESS=GW3M+WFH Särö\, Särö\, 
 429 43\, Sverige;X-APPLE-RADIUS=100;X-TITLE=Särö Västerskog:geo:57.5048
 13,11.933734
END:VEVENT
BEGIN:VTIMEZONE
TZID:Europe/Stockholm
X-LIC-LOCATION:Europe/Stockholm
BEGIN:DAYLIGHT
DTSTART:20240331T030000
TZOFFSETFROM:+0100
TZOFFSETTO:+0200
TZNAME:CEST
END:DAYLIGHT
END:VTIMEZONE
END:VCALENDAR