BEGIN:VCALENDAR
VERSION:2.0
PRODID:-//wp-events-plugin.com//7.2.3.1//EN
TZID:Europe/Stockholm
X-WR-TIMEZONE:Europe/Stockholm
BEGIN:VEVENT
UID:205@azsg.se
DTSTART;TZID=Europe/Stockholm:20240604T093000
DTEND;TZID=Europe/Stockholm:20240604T123000
DTSTAMP:20240325T132601Z
URL:https://azsg.se/aktiviteter/seniorgolfen/
SUMMARY:Seniorgolfen
DESCRIPTION:[vc_row padding_top="0px" padding_bottom="0px"][vc_column fade_
 animation_offset="45px"][vc_column_text]9-hålls runda på Kungsbacka GK. 
 Efterföljande lunch för de som kan/vill.\nFörsta starttid 10.10.\nGreen
 fee 400 kr.\n\n[/vc_column_text][gap size="2em" id="" class="" style=""][v
 c_message message_box_style="solid" style="square" message_box_color="juic
 y_pink" icon_fontawesome="" el_class="sistaanmalan"]Anmälan senast 20 maj
 .[/vc_message][/vc_column][/vc_row]
ATTACH;FMTTYPE=image/jpeg:https://azsg.se/wp-content/uploads/2020/02/Golfb
 oll-e1673624067991.jpg
CATEGORIES:Möte
LOCATION:Kungsbacka Golfklubb\, Hamravägen 15\, Särö\, 429 44\, Sverige
GEO:57.493543;11.985949
X-APPLE-STRUCTURED-LOCATION;VALUE=URI;X-ADDRESS=Hamravägen 15\, Särö\, 4
 29 44\, Sverige;X-APPLE-RADIUS=100;X-TITLE=Kungsbacka Golfklubb:geo:57.493
 543,11.985949
END:VEVENT
BEGIN:VTIMEZONE
TZID:Europe/Stockholm
X-LIC-LOCATION:Europe/Stockholm
BEGIN:DAYLIGHT
DTSTART:20240331T030000
TZOFFSETFROM:+0100
TZOFFSETTO:+0200
TZNAME:CEST
END:DAYLIGHT
END:VTIMEZONE
END:VCALENDAR