BEGIN:VCALENDAR
VERSION:2.0
PRODID:-//wp-events-plugin.com//7.2.3.1//EN
TZID:Europe/Stockholm
X-WR-TIMEZONE:Europe/Stockholm
BEGIN:VEVENT
UID:51@azsg.se
DTSTART;TZID=Europe/Stockholm:20191231T170000
DTEND;TZID=Europe/Stockholm:20200101T030000
DTSTAMP:20191119T100507Z
URL:https://azsg.se/aktiviteter/nyarsfest/
SUMMARY:Nyårsfest
DESCRIPTION:Jättekul fest på gång\n\nKlädsel: valfri
CATEGORIES:Mat &amp; Dryck
LOCATION:Gula Villan\, Kärragatan 5-7\, Mölndal\, Sverige
GEO:57.64070019999999;12.021154000000024
X-APPLE-STRUCTURED-LOCATION;VALUE=URI;X-ADDRESS=Kärragatan 5-7\, Mölndal\
 , Sverige;X-APPLE-RADIUS=100;X-TITLE=Gula Villan:geo:57.64070019999999,12.
 021154000000024
END:VEVENT
BEGIN:VTIMEZONE
TZID:Europe/Stockholm
X-LIC-LOCATION:Europe/Stockholm
BEGIN:STANDARD
DTSTART:20191027T020000
TZOFFSETFROM:+0200
TZOFFSETTO:+0100
TZNAME:CET
END:STANDARD
END:VTIMEZONE
END:VCALENDAR