BEGIN:VCALENDAR
VERSION:2.0
PRODID:-//wp-events-plugin.com//7.2.3.1//EN
TZID:Europe/Stockholm
X-WR-TIMEZONE:Europe/Stockholm
BEGIN:VEVENT
UID:40@azsg.se
DTSTART;TZID=Europe/Stockholm:20190919T091500
DTEND;TZID=Europe/Stockholm:20190919T173000
DTSTAMP:20190910T150003Z
URL:https://azsg.se/aktiviteter/konst-och-kulturresa-till-boras-textilstad
 en-heldag/
SUMMARY:Konst och kulturresa till Borås Textilstaden - Heldag
DESCRIPTION:[vc_row padding_top="0px" padding_bottom="0px"][vc_column fade_
 animation_offset="45px"][vc_column_text]Samåkning till Borås i egna bila
 r med start kl.09.15. Alternativt färdsätt är snabbussen från Korsvä
 gen.\n\nVi anländer till kulturhuset ca 10:30 där det bjuds på fika och
  lite allmän information.\n\nDärefter 11.00 – 13.00 guidning på St
 án. Offentliga rummet med Street Art och Skulpturer. Promenaden tar ca 1\
 ,5 timme och avslutas på Abecita\, där vi\, kl 13.00\,  på egen beko
 stnad äter en kall lunch.\n\nEfter lunchen\, 14.00-16.00\, får vi guidn
 ing av museet och egen vandring bland samlingarna. Utsällningsprogram\, s
 e deras hemsida\, www.Abecitakonst.se.\n\n[/vc_column_text][vc_message mes
 sage_box_style="solid" style="square" message_box_color="juicy_pink" icon_
 fontawesome="fa fa-exclamation-circle" el_class="sistaanmalan"]Anmälan se
 nast 10 sept – max 20 platser (först till kvarn …)[/vc_message][/vc_c
 olumn][/vc_row]
ATTACH;FMTTYPE=image/jpeg:https://azsg.se/wp-content/uploads/2019/08/pinoc
 cio_boras.jpg
CATEGORIES:Kultur,Mat &amp; Dryck,Promenad,Resa
LOCATION:Borås Kulturhus\, P.A. Halls Terrass 4\, 501 15 Borås\, Borås\,
  501 15\, Sverige
GEO:57.72132800000001;12.948160099999996
X-APPLE-STRUCTURED-LOCATION;VALUE=URI;X-ADDRESS=P.A. Halls Terrass 4\, 501 
 15 Borås\, Borås\, 501 15\, Sverige;X-APPLE-RADIUS=100;X-TITLE=Borås Ku
 lturhus:geo:57.72132800000001,12.948160099999996
END:VEVENT
BEGIN:VTIMEZONE
TZID:Europe/Stockholm
X-LIC-LOCATION:Europe/Stockholm
BEGIN:DAYLIGHT
DTSTART:20190331T030000
TZOFFSETFROM:+0100
TZOFFSETTO:+0200
TZNAME:CEST
END:DAYLIGHT
END:VTIMEZONE
END:VCALENDAR