BEGIN:VCALENDAR
VERSION:2.0
PRODID:-//wp-events-plugin.com//7.2.3.1//EN
TZID:Europe/Stockholm
X-WR-TIMEZONE:Europe/Stockholm
BEGIN:VEVENT
UID:46@azsg.se
DTSTART;TZID=Europe/Stockholm:20191212T123000
DTEND;TZID=Europe/Stockholm:20191212T150000
DTSTAMP:20190911T164333Z
URL:https://azsg.se/aktiviteter/jullunch/
SUMMARY:Jullunch
DESCRIPTION:[vc_row padding_top="0px" padding_bottom="0px"][vc_column fade_
 animation_offset="45px"][vc_column_text]Årets jullunch serveras torsdage
 n den 12 december kl. 12.30 – 15.00 på Hamnkrogen\, Liseberg. Mer infor
 mation kommer i samband med separat inbjudan till Jullunchen.[/vc_column_t
 ext][gap size="2em" id="" class="" style=""][vc_message message_box_style=
 "solid" style="square" message_box_color="juicy_pink" icon_fontawesome="fa
  fa-exclamation-circle" el_class="sistaanmalan"]Anmälan senast 1 december
  – max 170 platser (först till kvarn …)[/vc_message][/vc_column][/vc_
 row]
ATTACH;FMTTYPE=image/jpeg:https://azsg.se/wp-content/uploads/2019/08/Julbo
 rd_1990b_cropped.jpg
CATEGORIES:Mat &amp; Dryck
LOCATION:Hamnkrogen Liseberg\, Liseberg\, Göteborg\, 412 51\, Sverige
GEO:57.6952191;11.992464100000007
X-APPLE-STRUCTURED-LOCATION;VALUE=URI;X-ADDRESS=Liseberg\, Göteborg\, 412 
 51\, Sverige;X-APPLE-RADIUS=100;X-TITLE=Hamnkrogen Liseberg:geo:57.6952191
 ,11.992464100000007
END:VEVENT
BEGIN:VTIMEZONE
TZID:Europe/Stockholm
X-LIC-LOCATION:Europe/Stockholm
BEGIN:STANDARD
DTSTART:20191027T020000
TZOFFSETFROM:+0200
TZOFFSETTO:+0100
TZNAME:CET
END:STANDARD
END:VTIMEZONE
END:VCALENDAR