BEGIN:VCALENDAR
VERSION:2.0
PRODID:-//wp-events-plugin.com//7.2.3.1//EN
TZID:Europe/Stockholm
X-WR-TIMEZONE:Europe/Stockholm
BEGIN:VEVENT
UID:157@azsg.se
DTSTART;TZID=Europe/Stockholm:20220906T100000
DTEND;TZID=Europe/Stockholm:20220906T120000
DTSTAMP:20220810T091040Z
URL:https://azsg.se/aktiviteter/hostpromenad-med-borje-wernersson/
SUMMARY:Höstpromenad på Stora Amundön med Börje Wernersson
DESCRIPTION:[vc_row padding_top="0px" padding_bottom="0px"][vc_column fade_
 animation_offset="45px"][vc_column_text]På vår första höstvandring sen
  restriktionerna togs bort besöker vi Stora Amundön. Vi vandrade där f
 ör några år sedan men då på våren. Vi kommenterar växter efterhand 
 på vår promenad mot havet (fika)\, där vi kan se kärrtörel (överblom
 mad).\n\nSamling: Kl. 10.00 på stora parkeringen vid Stora Amundön.\n\nL
 edare: Börje Wernersson (0737-255678)\n\nPraktiskt: Ta med fika. Klär di
 g efter vädret. Stövlar behövs inte. Bra vandringsleder.[/vc_column_tex
 t][gap size="2em" id="" class="" style=""][vc_message message_box_style="s
 olid" style="square" message_box_color="juicy_pink" icon_fontawesome="" el
 _class="sistaanmalan"]Anmälan senast 1 sept  [/vc_message][/vc_column][
 /vc_row]
ATTACH;FMTTYPE=image/jpeg:https://azsg.se/wp-content/uploads/2021/02/th-1.
 jpg
CATEGORIES:Kunskap,Promenad
LOCATION:Stora Amundön\, Parkering Stora Amundön\, Askim\, 436 58\, Sveri
 ge
GEO:57.595192;11.920632
X-APPLE-STRUCTURED-LOCATION;VALUE=URI;X-ADDRESS=Parkering Stora Amundön\, 
 Askim\, 436 58\, Sverige;X-APPLE-RADIUS=100;X-TITLE=Stora Amundön:geo:57.
 595192,11.920632
END:VEVENT
BEGIN:VTIMEZONE
TZID:Europe/Stockholm
X-LIC-LOCATION:Europe/Stockholm
BEGIN:DAYLIGHT
DTSTART:20220327T030000
TZOFFSETFROM:+0100
TZOFFSETTO:+0200
TZNAME:CEST
END:DAYLIGHT
END:VTIMEZONE
END:VCALENDAR