BEGIN:VCALENDAR
VERSION:2.0
PRODID:-//wp-events-plugin.com//7.2.3.1//EN
TZID:Europe/Stockholm
X-WR-TIMEZONE:Europe/Stockholm
BEGIN:VEVENT
UID:158@azsg.se
DTSTART;TZID=Europe/Stockholm;VALUE=DATE:20220913
DTEND;TZID=Europe/Stockholm;VALUE=DATE:20220914
DTSTAMP:20220831T190827Z
URL:https://azsg.se/aktiviteter/hostgolf-3/
SUMMARY:Höstgolf
DESCRIPTION:[vc_row padding_top="0px" padding_bottom="0px"][vc_column fade_
 animation_offset="45px"][vc_column_text]AZSGs höstgolf blir på Partille 
 GK i Öjersjö! Första start 10.00. Maila Arne Torstensson om intresse oc
 h golfid.[/vc_column_text][gap size="2em" id="" class="" style=""][vc_mess
 age message_box_style="solid" style="square" message_box_color="juicy_pink
 " icon_fontawesome="" el_class="sistaanmalan"]Anmälan senast 6 september.
 [/vc_message][/vc_column][/vc_row]
ATTACH;FMTTYPE=image/jpeg:https://azsg.se/wp-content/uploads/2020/02/Golfb
 oll-e1673624067991.jpg
CATEGORIES:Spel &amp; Idrott
LOCATION:Partille Golfklubb\, Golfrundan 5\, Öjersjö\, 43351\, Sverige
GEO:57.690209;12.11071
X-APPLE-STRUCTURED-LOCATION;VALUE=URI;X-ADDRESS=Golfrundan 5\, Öjersjö\, 
 43351\, Sverige;X-APPLE-RADIUS=100;X-TITLE=Partille Golfklubb:geo:57.69020
 9,12.11071
END:VEVENT
BEGIN:VTIMEZONE
TZID:Europe/Stockholm
X-LIC-LOCATION:Europe/Stockholm
BEGIN:DAYLIGHT
DTSTART:20220327T030000
TZOFFSETFROM:+0100
TZOFFSETTO:+0200
TZNAME:CEST
END:DAYLIGHT
END:VTIMEZONE
END:VCALENDAR