BEGIN:VCALENDAR
VERSION:2.0
PRODID:-//wp-events-plugin.com//7.2.3.1//EN
TZID:Europe/Stockholm
X-WR-TIMEZONE:Europe/Stockholm
BEGIN:VEVENT
UID:75@azsg.se
DTSTART;TZID=Europe/Stockholm:20200226T100000
DTEND;TZID=Europe/Stockholm:20200226T140000
DTSTAMP:20200220T162854Z
URL:https://azsg.se/aktiviteter/bridge-vt-2020-2020-02-26/
SUMMARY:Bridge VT 2020
DESCRIPTION:Vi spelar bridge onsdagar kl. 10.00–14.00 i Gula Villan (10:-
 /gång – betalas på plats).\n\nTerminen startar 8 januari. Välkomna!\n
 \nÄr du ny deltagare? Kontakta då arrangören före första besöket.
CATEGORIES:Spel &amp; Idrott
LOCATION:Gula Villan\, Kärragatan 5-7\, Mölndal\, Sverige
GEO:57.64070019999999;12.021154000000024
X-APPLE-STRUCTURED-LOCATION;VALUE=URI;X-ADDRESS=Kärragatan 5-7\, Mölndal\
 , Sverige;X-APPLE-RADIUS=100;X-TITLE=Gula Villan:geo:57.64070019999999,12.
 021154000000024
END:VEVENT
BEGIN:VTIMEZONE
TZID:Europe/Stockholm
X-LIC-LOCATION:Europe/Stockholm
BEGIN:STANDARD
DTSTART:20191027T020000
TZOFFSETFROM:+0200
TZOFFSETTO:+0100
TZNAME:CET
END:STANDARD
END:VTIMEZONE
END:VCALENDAR