BEGIN:VCALENDAR
VERSION:2.0
PRODID:-//wp-events-plugin.com//7.2.3.1//EN
TZID:Europe/Stockholm
X-WR-TIMEZONE:Europe/Stockholm
BEGIN:VEVENT
UID:180@azsg.se
DTSTART;TZID=Europe/Stockholm:20230418T130000
DTEND;TZID=Europe/Stockholm:20230418T143000
DTSTAMP:20230217T111817Z
URL:https://azsg.se/aktiviteter/besok-pa-gunnebo-slott/
SUMMARY:Besök på Gunnebo Slott
DESCRIPTION:[vc_row padding_top="0px" padding_bottom="0px"][vc_column fade_
 animation_offset="45px"][vc_column_text]Välkomna på en guidad visning av
  Gunnebo Slott\, det nya orangeriet och lustträdgården.[/vc_column_text]
 [gap size="2em" id="" class="" style=""][vc_message message_box_style="sol
 id" style="square" message_box_color="juicy_pink" icon_fontawesome="" el_c
 lass="sistaanmalan"]Anmälan senast 11 april. Max antal deltagare 25.[/vc_
 message][/vc_column][/vc_row]
ATTACH;FMTTYPE=image/jpeg:https://azsg.se/wp-content/uploads/2023/02/Gunne
 bo-scaled-e1676632678212.jpg
CATEGORIES:Kultur,Kunskap
LOCATION:Gunnebo Slott\, Christina Halls väg\, Mölndal\, 43136\, Sverige
GEO:57.65842;12.065441
X-APPLE-STRUCTURED-LOCATION;VALUE=URI;X-ADDRESS=Christina Halls väg\, Möl
 ndal\, 43136\, Sverige;X-APPLE-RADIUS=100;X-TITLE=Gunnebo Slott:geo:57.658
 42,12.065441
END:VEVENT
BEGIN:VTIMEZONE
TZID:Europe/Stockholm
X-LIC-LOCATION:Europe/Stockholm
BEGIN:DAYLIGHT
DTSTART:20230326T030000
TZOFFSETFROM:+0100
TZOFFSETTO:+0200
TZNAME:CEST
END:DAYLIGHT
END:VTIMEZONE
END:VCALENDAR