BEGIN:VCALENDAR
VERSION:2.0
PRODID:-//wp-events-plugin.com//7.2.3.1//EN
TZID:Europe/Stockholm
X-WR-TIMEZONE:Europe/Stockholm
BEGIN:VEVENT
UID:105@azsg.se
DTSTART;TZID=Europe/Stockholm:20200218T150000
DTEND;TZID=Europe/Stockholm:20200218T163000
DTSTAMP:20200218T133128Z
URL:https://azsg.se/aktiviteter/arsmote-2020/
SUMMARY:Årsmöte 2020
DESCRIPTION:[vc_row padding_top="0px" padding_bottom="0px"][vc_column fade_
 animation_offset="45px"][vc_column_text]Välkommen till AstraZeneca Senior
 erna Göteborg årsmöte\, tisdagen den 18 februari klockan 15.00 i PGN ko
 nferenscenter\, med insläpp mellan 14.00 och 15.00. Vi börjar med fika f
 rån 14.15.\n\nÅrets företagsdialog bär titeln Cancer i fokus med Jenny
  Sundqvist. Vi kommer även att förevisa föreningens nya webbplats.\n\nU
 tförlig kallelse och årsmöteshandlingarna hittar du under menyn Medlem
 ssidor &gt\;&gt\; Årsmötersdokument\, +2020.\n\nAnmälan görs till Pia 
 Lundholm Unger senast den 7 februari via mejl eller sms.\n\nEpost: Pia.l.
 unger@gmail.com\nTel för sms: 0709 67 00 97.\n\nGlöm ej anmäla ev. alle
 rgi/specialkost.\n\nVälkommen![/vc_column_text][gap size="2em" id="" clas
 s="" style=""][vc_message message_box_style="solid" style="square" message
 _box_color="juicy_pink" icon_fontawesome="" el_class="sistaanmalan"]Anmäl
 an till Pia Lundholm Unger senast 7 februari![/vc_message][/vc_column][/vc
 _row]
CATEGORIES:Möte
LOCATION:PGN Conference Center\, Pepparedsleden 5\, Mölndal\, 431 53 \, Sv
 erige
GEO:57.642075;12.021145
X-APPLE-STRUCTURED-LOCATION;VALUE=URI;X-ADDRESS=Pepparedsleden 5\, Mölndal
 \, 431 53 \, Sverige;X-APPLE-RADIUS=100;X-TITLE=PGN Conference Center:geo:
 57.642075,12.021145
END:VEVENT
BEGIN:VTIMEZONE
TZID:Europe/Stockholm
X-LIC-LOCATION:Europe/Stockholm
BEGIN:STANDARD
DTSTART:20191027T020000
TZOFFSETFROM:+0200
TZOFFSETTO:+0100
TZNAME:CET
END:STANDARD
END:VTIMEZONE
END:VCALENDAR