BEGIN:VCALENDAR
VERSION:2.0
PRODID:-//wp-events-plugin.com//7.2.3.1//EN
TZID:Europe/Stockholm
X-WR-TIMEZONE:Europe/Stockholm
BEGIN:VEVENT
UID:90@azsg.se
DTSTART;TZID=Europe/Stockholm:20200310T100000
DTEND;TZID=Europe/Stockholm:20200310T120000
DTSTAMP:20200205T134106Z
URL:https://azsg.se/aktiviteter/alvrummet/
SUMMARY:Älvrummet
DESCRIPTION:[vc_row padding_top="0px" padding_bottom="0px"][vc_column fade_
 animation_offset="45px"][vc_column_text]\nHur kommer Göteborgs centrala s
 tadsdelar längs med Göta Älv att se ut om 15\, 20 och 30 år? Vad finns
  det för visioner och vad är redan klart? I Älvrummet får du svar på 
 dina frågor om stadsutvecklingen i det som kallas Älvstaden. Vi får en 
 guidad visning på ca 1 tim om planerna för Göteborg. \nAdress: Visitor 
 Centre i Lindholmen Science Park\, Lindholmspiren 3-5\, mittemot den stora
 \, röda byggnaden Kuggen. https://alvrummet.se/hitta-hit/\n[/vc_column_te
 xt][gap size="2em" id="" class="" style=""][vc_message message_box_style="
 solid" style="square" message_box_color="juicy_pink" icon_fontawesome="" e
 l_class="sistaanmalan"]Anmälan senast 3 mars – max 50 platser (först t
 ill kvarn …)[/vc_message][/vc_column][/vc_row]
ATTACH;FMTTYPE=image/jpeg:https://azsg.se/wp-content/uploads/2020/01/sodra
 _alvstranden.jpg
CATEGORIES:Kunskap
LOCATION:Älvrummet\, Lindholmspiren 3-5\, Göteborg\, Sverige
GEO:57.707187;11.940148
X-APPLE-STRUCTURED-LOCATION;VALUE=URI;X-ADDRESS=Lindholmspiren 3-5\, Göteb
 org\, Sverige;X-APPLE-RADIUS=100;X-TITLE=Älvrummet:geo:57.707187,11.94014
 8
END:VEVENT
BEGIN:VTIMEZONE
TZID:Europe/Stockholm
X-LIC-LOCATION:Europe/Stockholm
BEGIN:STANDARD
DTSTART:20191027T020000
TZOFFSETFROM:+0200
TZOFFSETTO:+0100
TZNAME:CET
END:STANDARD
END:VTIMEZONE
END:VCALENDAR